BEGIN:VCALENDAR
VERSION:2.0
PRODID:-//The Old Savoy - Home of The Deco Theatre, Northampton - ECPv6.15.17//NONSGML v1.0//EN
CALSCALE:GREGORIAN
METHOD:PUBLISH
X-WR-CALNAME:The Old Savoy - Home of The Deco Theatre, Northampton
X-ORIGINAL-URL:https://www.theoldsavoy.co.uk
X-WR-CALDESC:Events for The Old Savoy - Home of The Deco Theatre, Northampton
REFRESH-INTERVAL;VALUE=DURATION:PT1H
X-Robots-Tag:noindex
X-PUBLISHED-TTL:PT1H
BEGIN:VTIMEZONE
TZID:Europe/London
BEGIN:DAYLIGHT
TZOFFSETFROM:+0000
TZOFFSETTO:+0100
TZNAME:BST
DTSTART:20250330T010000
END:DAYLIGHT
BEGIN:STANDARD
TZOFFSETFROM:+0100
TZOFFSETTO:+0000
TZNAME:GMT
DTSTART:20251026T010000
END:STANDARD
BEGIN:DAYLIGHT
TZOFFSETFROM:+0000
TZOFFSETTO:+0100
TZNAME:BST
DTSTART:20260329T010000
END:DAYLIGHT
BEGIN:STANDARD
TZOFFSETFROM:+0100
TZOFFSETTO:+0000
TZNAME:GMT
DTSTART:20261025T010000
END:STANDARD
BEGIN:DAYLIGHT
TZOFFSETFROM:+0000
TZOFFSETTO:+0100
TZNAME:BST
DTSTART:20270328T010000
END:DAYLIGHT
BEGIN:STANDARD
TZOFFSETFROM:+0100
TZOFFSETTO:+0000
TZNAME:GMT
DTSTART:20271031T010000
END:STANDARD
BEGIN:DAYLIGHT
TZOFFSETFROM:+0000
TZOFFSETTO:+0100
TZNAME:BST
DTSTART:20280326T010000
END:DAYLIGHT
BEGIN:STANDARD
TZOFFSETFROM:+0100
TZOFFSETTO:+0000
TZNAME:GMT
DTSTART:20281029T010000
END:STANDARD
END:VTIMEZONE
BEGIN:VEVENT
DTSTART;TZID=Europe/London:20260426T110000
DTEND;TZID=Europe/London:20260426T150000
DTSTAMP:20260426T022408
CREATED:20260312T114958Z
LAST-MODIFIED:20260420T101043Z
UID:40884-1777201200-1777215600@www.theoldsavoy.co.uk
SUMMARY:VCL Shrek The Musical Junior - Auditions
DESCRIPTION:Auditions for VCL’s Summer Youth Project 2026\nShrek Jr is a great chance for young performers to join a whimsical journey to the Kingdom of Far Far Away. Participants can enjoy a morning of creativity and fun\, exploring the enchanting world of Shrek through storytelling\, music\, and dance. Whether singing\, dancing\, or acting\, there’s a role for everyone in this magical adventure celebrating friendship\, acceptance\, and being true to oneself. \n\nRehearsals & Performances\nRehearsals\n3rd August – 15th August 2026  \nPerformances\nSaturday 15th August 2026 – 2pm & 6pm\n \nRegister your place for the Audition morning here > \n\n\nVCL Summer Youth Project 2026 \nOver two exciting weeks\, our talented young performers will come together for the much-anticipated VCL Summer Youth Project. \nDuring this intensive rehearsal period\, they will build skills\, confidence\, and friendships as they work collaboratively to create an unforgettable production. From first read-through to final curtain\, the cast will dedicate themselves to bringing energy\, creativity\, and passion to the stage. \nThe project culminates in two fantastic performances on Saturday 15th August at the beautiful The Old Savoy – Home of The Deco Theatre. \nJoin us in celebrating the hard work and achievements of these inspiring young performers — and experience the magic they’ve created in just two short weeks! \n 
URL:https://www.theoldsavoy.co.uk/event/vcl-shrek-the-musical-junior-auditions/
CATEGORIES:Childrens,Live on Stage
ATTACH;FMTTYPE=image/png:https://www.theoldsavoy.co.uk/wp-content/uploads/2026/03/1.png
END:VEVENT
BEGIN:VEVENT
DTSTART;VALUE=DATE:20260528
DTEND;VALUE=DATE:20260529
DTSTAMP:20260426T022408
CREATED:20250425T114326Z
LAST-MODIFIED:20260312T115935Z
UID:38660-1779926400-1780012799@www.theoldsavoy.co.uk
SUMMARY:Unicorn Live!
DESCRIPTION:After the sell out success of Princess Live! Darling Productions UK are proud to announce a brand new show for 2026… Unicorn Live! \nHarmony\, Melody and Starlight are the best of unicorn friends… Join them as they use their magical unicorn powers to save the show and conjure up the magical fourth band member. Watch in amazement as they use the power of song and dance to create the band\, Unicorn Live! \n\nFeaturing your favourite pop and musical theatre songs\, dazzling costumes\, and a real unicorn called Sparkle. This show is like no other and will be sure to entertain children of all ages. \nAfter every performance there is a free photo opportunity with Harmony\, Melody and Starlight. \nLet’s sing\, dance and make kindness thrive – book your tickets now for Unicorn Live! \n  \nPlease Note: This show is 60 minutes long with no interval
URL:https://www.theoldsavoy.co.uk/event/unicorn-live/
LOCATION:The  Old Savoy\, Abington Square\, Northampton\, NN1 4AE
CATEGORIES:Childrens,Live on Stage
ATTACH;FMTTYPE=image/jpeg:https://www.theoldsavoy.co.uk/wp-content/uploads/2025/04/Unicorn-Live-NORTHAMPTON_SQUARE.jpg
END:VEVENT
BEGIN:VEVENT
DTSTART;TZID=Europe/London:20260529T140000
DTEND;TZID=Europe/London:20260529T150000
DTSTAMP:20260426T022408
CREATED:20250715T111014Z
LAST-MODIFIED:20260312T130010Z
UID:39248-1780063200-1780066800@www.theoldsavoy.co.uk
SUMMARY:Dinosaur Adventure Live 2026
DESCRIPTION:The Greatest Prehistoric Show on Earth\nA dinosaur show 65 million years in the making… Are you ready for the BRAND NEW adventure?\nJoin our intrepid rangers on a quest to recover the data crystal\, restore power to the island and save the Dinosaurs! \nStomp\, Roar and Swish your tail as we introduce you to some of the most incredible species ever to have lived on planet Earth. An unforgettable Jurassic experience for all the family to enjoy. \nLearn their history with our amazing Dino-facts\, meet our beautiful baby dinosaurs and even feed them\, but watch out…. you could be on the menu. \nFeel the excitement as you come face-to-face with a T-Rex and hear it’s roooooooarrrrrr! \nThis awe-inspiring interactive stage show captivates both young and young at heart\, immersing audiences in the enthralling & realistic world of Dinosaurs. \nYou won’t want to miss this adventure of a lifetime\, so hold onto your kids as this show will blow them away! \n“It’s Totally T-rex-iffic” \n \n\n 
URL:https://www.theoldsavoy.co.uk/event/dinosaur-adventure-live-2026/
LOCATION:The  Old Savoy\, Abington Square\, Northampton\, NN1 4AE
CATEGORIES:Childrens,Family,Live on Stage
ATTACH;FMTTYPE=image/jpeg:https://www.theoldsavoy.co.uk/wp-content/uploads/2025/07/A4-Ratio-Hi-Res-scaled.jpg
END:VEVENT
BEGIN:VEVENT
DTSTART;VALUE=DATE:20260628
DTEND;VALUE=DATE:20260629
DTSTAMP:20260426T022408
CREATED:20250703T110658Z
LAST-MODIFIED:20250905T202830Z
UID:39170-1782604800-1782691199@www.theoldsavoy.co.uk
SUMMARY:Fireman Sam Pirates Adventure
DESCRIPTION:Brand New for 2026.   \n  \nNorman Price is determined to win the Pontypandy Treasure Hunt\, but when he discovers clues to a real pirate treasure\, he goes exploring deep into the caves. It’s up to Fireman Sam\, Elvis and Ellie to save the day and find the treasure. With clues\, pirate songs and plenty of swashbuckling adventure\, Fireman Sam’s new live show is perfect for all budding pirates! Live Show Ahoy! \n  \nProduced by Mark Thompson Productions in partnership with Mattel.  Directed by Miranda Larson.  \n  \nBook tickets  www.theoldsavoy.co.uk or Call The Box Office 01604 491005 Monday to Friday 10am – 4pm and Saturday 10am – 2pm
URL:https://www.theoldsavoy.co.uk/event/fireman-sam-pirates-adventure/
LOCATION:The  Old Savoy\, Abington Square\, Northampton\, NN1 4AE
CATEGORIES:Childrens,Live on Stage
ATTACH;FMTTYPE=image/jpeg:https://www.theoldsavoy.co.uk/wp-content/uploads/2025/07/firenew.jpg
END:VEVENT
BEGIN:VEVENT
DTSTART;VALUE=DATE:20260927
DTEND;VALUE=DATE:20260928
DTSTAMP:20260426T022408
CREATED:20260227T133443Z
LAST-MODIFIED:20260227T133730Z
UID:40804-1790467200-1790553599@www.theoldsavoy.co.uk
SUMMARY:The Space Explorers Academy
DESCRIPTION:Calling all Space fans! \nThe Science Museum\, in association with the UK Space Agency\, has teamed up with Mark Thompson Productions (the creators behind Ministry of Science Live!) to launch a fun-filled theatrical adventure that blasts you on an epic journey around the planets. \nZoom past the Sun\, dodge swirling storms on Jupiter\, glide by the rings of Saturn and venture out to the icy giants at the edge of our solar system. Along the way you’ll uncover brilliant planet facts\, jaw-dropping discoveries\, and the secrets of what it takes to explore space for real. \nCreated especially for 6-12-year-olds (and the grown-ups who love space just as much!)\, this high-energy show is packed with big visuals\, brilliant storytelling and plenty of cosmic surprises. \nWhether you’re a future astronaut\, a stargazing super-fan or just curious about what’s out there\, this is your ticket to an unforgettable trip through space. \nStrap in. Count down. And get ready to explore the universe with The Space Explorers Academy.
URL:https://www.theoldsavoy.co.uk/event/the-space-explorers-academy/
CATEGORIES:Childrens,Family,Live on Stage
ATTACH;FMTTYPE=image/jpeg:https://www.theoldsavoy.co.uk/wp-content/uploads/2026/02/af43ce85-0332-4588-90c5-21ed885a146e.jpg
END:VEVENT
BEGIN:VEVENT
DTSTART;TZID=Europe/London:20261025T190000
DTEND;TZID=Europe/London:20261025T210000
DTSTAMP:20260426T022408
CREATED:20260310T150224Z
LAST-MODIFIED:20260316T132010Z
UID:40866-1792954800-1792962000@www.theoldsavoy.co.uk
SUMMARY:K-POP ICONS
DESCRIPTION:Catch the K-POP ICONS on their WORLD TOUR!\n“A New and Unique Family K-Pop Experience” \n🎤 Get ready to sing\, dance\, and party like never before with the K-POP ICONS – the ultimate live concert starring the UK’s first virtual K-Pop band and a sensational live dance crew delivering a world-exclusive experience\, celebrating Korea’s global music phenomenon! \n🔥 Packed with the BIGGEST hits and fan-favourite tracks from Netflix’s smash-hit film K-POP DEMON HUNTERS 🗡️💫 this high-energy\, family-friendly show brings the world of K-Pop to a theatre near you\, led by original K-Pop digital avatars – the ICONS are joined on stage by world-class dancers. \nKids and adults will fall in love with their chosen ICON and get the chance to help crown their favourite character at this live and interactive performance. \n\n🎶 Featuring songs from BLACKPINK\, ROSÉ\, BTS\, TWICE\, K/DA\, KATSEYE\, and DEMON HUNTERS groups SAJA BOYS and HUNTR/X. This immersive party is a show for all ages\, whether you’re a hardcore fan\, brand new to the K-Pop wave or just along for your tiny demon hunters\, there’s something for everyone! \n✨ The lights are up. The stage is set. It’s your time to shine like you’re born to be. Make the Honmoon Golden with the K-POP ICONS! 💫 \nDisclaimer: K-POP ICONS® is an original digital K-Pop band and trademark of Red Ents Ltd. Performances may include cover versions of songs originally recorded andor composed by third parties. K-POP ICONS is not affiliated with\, endorsed by\, or associated with any original artists\, composers\, record labels\, films\, or rights holders. All trademarks\, copyrights\, and other intellectual property remain the property of their respective owners
URL:https://www.theoldsavoy.co.uk/event/kpop-icons/
CATEGORIES:Childrens,Family,Live on Stage
ATTACH;FMTTYPE=image/jpeg:https://www.theoldsavoy.co.uk/wp-content/uploads/2026/03/1080x1080.jpg
END:VEVENT
BEGIN:VEVENT
DTSTART;TZID=Europe/London:20270613T143000
DTEND;TZID=Europe/London:20270613T163000
DTSTAMP:20260426T022408
CREATED:20260326T165205Z
LAST-MODIFIED:20260326T165205Z
UID:41014-1812897000-1812904200@www.theoldsavoy.co.uk
SUMMARY:Amazing Animals
DESCRIPTION:If you love animals\, then you are going to love this show. A show dedicated to and celebrating all creatures great and small. The only show around that you get to see your favourite animals bursting out onto the stage right before your very eyes. The original animal show with NO LIVE ANIMALS. \nThe heart-warming show packed full of music\, comedy and amazing animal effects is suited to all the family. \nBook your family in and come and have a roarsome time.However\, don’t just take our word for it\, here is what some of the reviews from our last tour said: \nFantastic show today\, well worth the travel\, its the 2nd time we’ve seen these guys\, lots of laughter for the kids and adults\, definitely will be booking again if there’s a new tour next year \nSteven Hatton\n— \nGenuinely have never laughed and cried so much in one show. Brilliant entertainment\, so much fun and incredibly informative…..underpinned by such a powerful\, emotive and important message about our planet and animals. \nAll children (and adults) should see this show\, it is absolutely incredible! \nHeather Louise\n— \nIncredible show\, thoroughly enjoyed by my 3\, 6 and 9 year old and the grown ups too!! \nNever been to a show like this and will definitely come again. Thank you \nSarah Battye\n— \nMy 8 year old howled all the way through it and came home telling his sister loads of new facts he had learnt he loved it thanks so much x \nAlison Pearsey\n— \nThe kids were hooked from the start – you made it funny\, interesting and educational oh and did I mention funny? Haha… My boy aged 8 now wants to single headedly save all animals… Thank you Animal Guyz \nLeanne Howson
URL:https://www.theoldsavoy.co.uk/event/amazing-animals/
CATEGORIES:Childrens,Family,Live on Stage
ATTACH;FMTTYPE=image/jpeg:https://www.theoldsavoy.co.uk/wp-content/uploads/2026/03/amazing-animals.jpg
END:VEVENT
END:VCALENDAR