BEGIN:VCALENDAR
VERSION:2.0
PRODID:-//The Old Savoy - Home of The Deco Theatre, Northampton - ECPv6.15.17//NONSGML v1.0//EN
CALSCALE:GREGORIAN
METHOD:PUBLISH
X-WR-CALNAME:The Old Savoy - Home of The Deco Theatre, Northampton
X-ORIGINAL-URL:https://www.theoldsavoy.co.uk
X-WR-CALDESC:Events for The Old Savoy - Home of The Deco Theatre, Northampton
REFRESH-INTERVAL;VALUE=DURATION:PT1H
X-Robots-Tag:noindex
X-PUBLISHED-TTL:PT1H
BEGIN:VTIMEZONE
TZID:Europe/London
BEGIN:DAYLIGHT
TZOFFSETFROM:+0000
TZOFFSETTO:+0100
TZNAME:BST
DTSTART:20140330T010000
END:DAYLIGHT
BEGIN:STANDARD
TZOFFSETFROM:+0100
TZOFFSETTO:+0000
TZNAME:GMT
DTSTART:20141026T010000
END:STANDARD
BEGIN:DAYLIGHT
TZOFFSETFROM:+0000
TZOFFSETTO:+0100
TZNAME:BST
DTSTART:20150329T010000
END:DAYLIGHT
BEGIN:STANDARD
TZOFFSETFROM:+0100
TZOFFSETTO:+0000
TZNAME:GMT
DTSTART:20151025T010000
END:STANDARD
BEGIN:DAYLIGHT
TZOFFSETFROM:+0000
TZOFFSETTO:+0100
TZNAME:BST
DTSTART:20160327T010000
END:DAYLIGHT
BEGIN:STANDARD
TZOFFSETFROM:+0100
TZOFFSETTO:+0000
TZNAME:GMT
DTSTART:20161030T010000
END:STANDARD
BEGIN:DAYLIGHT
TZOFFSETFROM:+0000
TZOFFSETTO:+0100
TZNAME:BST
DTSTART:20170326T010000
END:DAYLIGHT
BEGIN:STANDARD
TZOFFSETFROM:+0100
TZOFFSETTO:+0000
TZNAME:GMT
DTSTART:20171029T010000
END:STANDARD
BEGIN:DAYLIGHT
TZOFFSETFROM:+0000
TZOFFSETTO:+0100
TZNAME:BST
DTSTART:20180325T010000
END:DAYLIGHT
BEGIN:STANDARD
TZOFFSETFROM:+0100
TZOFFSETTO:+0000
TZNAME:GMT
DTSTART:20181028T010000
END:STANDARD
BEGIN:DAYLIGHT
TZOFFSETFROM:+0000
TZOFFSETTO:+0100
TZNAME:BST
DTSTART:20190331T010000
END:DAYLIGHT
BEGIN:STANDARD
TZOFFSETFROM:+0100
TZOFFSETTO:+0000
TZNAME:GMT
DTSTART:20191027T010000
END:STANDARD
BEGIN:DAYLIGHT
TZOFFSETFROM:+0000
TZOFFSETTO:+0100
TZNAME:BST
DTSTART:20200329T010000
END:DAYLIGHT
BEGIN:STANDARD
TZOFFSETFROM:+0100
TZOFFSETTO:+0000
TZNAME:GMT
DTSTART:20201025T010000
END:STANDARD
BEGIN:DAYLIGHT
TZOFFSETFROM:+0000
TZOFFSETTO:+0100
TZNAME:BST
DTSTART:20210328T010000
END:DAYLIGHT
BEGIN:STANDARD
TZOFFSETFROM:+0100
TZOFFSETTO:+0000
TZNAME:GMT
DTSTART:20211031T010000
END:STANDARD
END:VTIMEZONE
BEGIN:VEVENT
DTSTART;TZID=Europe/London:20200306T190000
DTEND;TZID=Europe/London:20200306T220000
DTSTAMP:20260424T152134
CREATED:20151007T134405Z
LAST-MODIFIED:20200114T101009Z
UID:1482-1583521200-1583532000@www.theoldsavoy.co.uk
SUMMARY:Barclays Goes Dancing
DESCRIPTION:Following 6 glittering years in various formats\, Barclays Goes Dancing returns for its 7th year on Friday 6th March 2020.  Bringing together 18 contestants made up of Barclays colleagues\, and pairing them with 18 dancers from local dance school Step By Step\, they will do battle on the dancefloor to see who will raise the coveted glitter ball trophy and be crowned the 2020 champion.  This year we are raising money for Northamptonshire Domestic Abuse Service (NDAS)\, who are dedicated to helping & supporting victims of domestic abuse in Northamptonshire.  So get your tickets and join us for a fabulous evening of glitz\, glamour\, and sparkle!
URL:https://www.theoldsavoy.co.uk/event/barclaysgoesdancing/
LOCATION:The Deco Main Auditorium\, Abington Square\, Northampton\, NN1 4AE\, United Kingdom
CATEGORIES:Competition,Dance,Family,Theatre
ATTACH;FMTTYPE=image/jpeg:https://www.theoldsavoy.co.uk/wp-content/uploads/2015/10/bgd.jpg
END:VEVENT
BEGIN:VEVENT
DTSTART;TZID=Europe/London:20181103T180000
DTEND;TZID=Europe/London:20181103T203000
DTSTAMP:20260424T152134
CREATED:20180813T100247Z
LAST-MODIFIED:20180813T100829Z
UID:8721-1541268000-1541277000@www.theoldsavoy.co.uk
SUMMARY:Strictly Northampton Kids
DESCRIPTION:Strictly Northampton KIDS 2018 \n24 children from Northamptonshire put their best strictly foot forward to raise money for the local children’s charity Niamh’s Next Step. \nContestants are given just 8 weeks training to learn Latin American and Ballroom dancing and then take to the stage head to head to perform for the coveted Strictly Northampton KIDS 2018 trophy.
URL:https://www.theoldsavoy.co.uk/event/strictly-northampton-kids/
LOCATION:The Deco Main Auditorium\, Abington Square\, Northampton\, NN1 4AE\, United Kingdom
CATEGORIES:Childrens,Competition,Dance
ATTACH;FMTTYPE=image/jpeg:https://www.theoldsavoy.co.uk/wp-content/uploads/2018/08/Strictly-Kids.jpg
END:VEVENT
BEGIN:VEVENT
DTSTART;TZID=Europe/London:20181012T190000
DTEND;TZID=Europe/London:20181012T213000
DTSTAMP:20260424T152134
CREATED:20180320T152326Z
LAST-MODIFIED:20180320T152326Z
UID:7636-1539370800-1539379800@www.theoldsavoy.co.uk
SUMMARY:An Evening with Eddie Hall
DESCRIPTION:  \nEvening With Eddie Hall\nSpend an evening with World’s Strongest Man\, EDDIE HALL (The Beast) \nAfter winning Britain’s Strongest Man\, Eddie starred in the hit documentary\, Strong Man\, on Netflix. He went on to win World’s Strongest Man this year\, the first Brit for 24 years. \nHe will talk through his journey from a young rebellious child to his insane diet and training regime that includes 12\,000 calories per day to maintain his 30 stone plus body and 4 hour gym sessions. \nThe evening is compered by former professional Rugby League player\, now sports presenter\, John Lebbon. \nVIP Gold Tickets includes a professional photo with Eddie and an item signed\, and table seating\, available direct from the promoter 07515 751333
URL:https://www.theoldsavoy.co.uk/event/an-evening-with-eddie-hall/
LOCATION:The Deco Main Auditorium\, Abington Square\, Northampton\, NN1 4AE\, United Kingdom
CATEGORIES:Competition,Theatre
ATTACH;FMTTYPE=image/jpeg:https://www.theoldsavoy.co.uk/wp-content/uploads/2018/03/eddie-Hall.jpg
END:VEVENT
BEGIN:VEVENT
DTSTART;TZID=Europe/London:20181004T190000
DTEND;TZID=Europe/London:20181004T220000
DTSTAMP:20260424T152134
CREATED:20180804T144141Z
LAST-MODIFIED:20180809T123820Z
UID:8678-1538679600-1538690400@www.theoldsavoy.co.uk
SUMMARY:Barclaycard Talent Show 2018 - The Comeback Tour
DESCRIPTION:Barclaycard presents their version of the hit ITV show talent show. \nBarclaycard Talent Show 2018 – The Comeback Tour . Come along and support the fantastic acts from Barclaycard battling to win the Star trophy and helping to raise funds for Northampton Hope Centre and Rainbows Hospice for Children. \nThis will be a fun packed event full of laughter and cheers and supported by Konrad Kelling\, Anna Porra\, Kirsty Morris and Tracy Mann. \nVIP package includes premium seating\, BBQ  and Fast track entry \nCome and join in the fun
URL:https://www.theoldsavoy.co.uk/event/the-comeback-tour/
LOCATION:The Deco Main Auditorium\, Abington Square\, Northampton\, NN1 4AE\, United Kingdom
CATEGORIES:Childrens,Competition,Family,Theatre
ATTACH;FMTTYPE=application/pdf:https://www.theoldsavoy.co.uk/wp-content/uploads/2018/08/Talent-Show-V2-Cyan.pdf
END:VEVENT
BEGIN:VEVENT
DTSTART;TZID=Europe/London:20170929T193000
DTEND;TZID=Europe/London:20170929T230000
DTSTAMP:20260424T152134
CREATED:20160322T154731Z
LAST-MODIFIED:20170906T103233Z
UID:2398-1506713400-1506726000@www.theoldsavoy.co.uk
SUMMARY:Friday Night Lights - Professional Boxing
DESCRIPTION:Pro Boxing at the Deco in Northampton 29th September – All local lads fighting. Also just added Kieron Conway to the bill\, making it 7 Northampton lads fighting. Come and support Jamie Spence and these local lads do Northampton proud. \nTickets available from the promoter or a small number of  £30 tickets available here at the Deco in advance £40 on the door
URL:https://www.theoldsavoy.co.uk/event/championship-boxing/
LOCATION:The Deco Main Auditorium\, Abington Square\, Northampton\, NN1 4AE\, United Kingdom
CATEGORIES:Competition,Theatre
ATTACH;FMTTYPE=image/jpeg:https://www.theoldsavoy.co.uk/wp-content/uploads/2016/03/Professional-Boxing-.jpg
END:VEVENT
BEGIN:VEVENT
DTSTART;TZID=Europe/London:20170624T123000
DTEND;TZID=Europe/London:20170624T193000
DTSTAMP:20260424T152134
CREATED:20160411T143217Z
LAST-MODIFIED:20170329T155816Z
UID:2472-1498307400-1498332600@www.theoldsavoy.co.uk
SUMMARY:Gymnastricks
DESCRIPTION:Gymnastricks is a happy\, high quality training environment for all levels of gymnastics. We specialise in performance based gymnastics and perform all over the country in a variety of venues including TV work and London’s West End! \nWe amalgamate Gymnastics\, Stage Acrobatics\, Sports Acrobatics and dance choreography to create unique skills. The Club provide gymnastic classes for children from 2.5 years+ (our sister club TumbleTricks provides classes from 18 months in day sessions). \nWe are based in Quinton House School and Bugbrooke Community centre. Gymnastricks returns for a second year to showcase their talent once again on stage. Prepared to be WOWed by these very talented youngsters. \nGymnastricks Med Show starts at 12.30pm \nGymanstrick Frat Show starts at 5.30pm
URL:https://www.theoldsavoy.co.uk/event/gymnastricks-2/
LOCATION:The Deco Main Auditorium\, Abington Square\, Northampton\, NN1 4AE\, United Kingdom
CATEGORIES:Competition,Dance,Theatre
ORGANIZER;CN="Gymnastricks":MAILTO:gymnastricks@outlook.com
END:VEVENT
BEGIN:VEVENT
DTSTART;TZID=Europe/London:20161118T190000
DTEND;TZID=Europe/London:20161118T223000
DTSTAMP:20260424T152134
CREATED:20160922T113704Z
LAST-MODIFIED:20160922T140342Z
UID:3280-1479495600-1479508200@www.theoldsavoy.co.uk
SUMMARY:Northampton Amateur Boxing Club
DESCRIPTION:Northampton ABC\, the town’s oldest amateur boxing club\, will celebrate its 60th anniversary with a tournament at The Deco Theatre on Friday November 18th. A team drawn from the clubs within the town will face a Midlands Select in a match that it is hoped will include at least one contest with a Midland Championship Belt at stake.
URL:https://www.theoldsavoy.co.uk/event/northampton-amateur-boxing-club/
LOCATION:The Deco Main Auditorium\, Abington Square\, Northampton\, NN1 4AE\, United Kingdom
CATEGORIES:Competition,Theatre
ATTACH;FMTTYPE=image/jpeg:https://www.theoldsavoy.co.uk/wp-content/uploads/2016/09/rightway-box.jpg
END:VEVENT
BEGIN:VEVENT
DTSTART;TZID=Europe/London:20161028T193000
DTEND;TZID=Europe/London:20161028T223000
DTSTAMP:20260424T152134
CREATED:20160921T102944Z
LAST-MODIFIED:20160921T102944Z
UID:3256-1477683000-1477693800@www.theoldsavoy.co.uk
SUMMARY:Pro Am presents Lockdown Fright Night
DESCRIPTION:In support of local children’s cancer charity\, Niamh’s Next Step\, we present a quality night of Boxing from local first time and novice fighter stepping into the ring to do battle …. \nDoors Open 6.30pm First fight 7.30pm
URL:https://www.theoldsavoy.co.uk/event/pro-presents-lockdown-fright-night/
LOCATION:The Deco Main Auditorium\, Abington Square\, Northampton\, NN1 4AE\, United Kingdom
CATEGORIES:Competition,Theatre
ATTACH;FMTTYPE=image/jpeg:https://www.theoldsavoy.co.uk/wp-content/uploads/2016/09/Pro-Am.jpeg
END:VEVENT
BEGIN:VEVENT
DTSTART;TZID=Europe/London:20151003T180000
DTEND;TZID=Europe/London:20151003T210000
DTSTAMP:20260424T152134
CREATED:20150819T112515Z
LAST-MODIFIED:20150819T112515Z
UID:1234-1443895200-1443906000@www.theoldsavoy.co.uk
SUMMARY:Miss Malawi UK
DESCRIPTION:  \nThe pageant is highly competitive and seeks to bring out those leadership qualities in women. The winner become a goodwill ambassador for Miss Malawi\, charged with designing and implementing a charities program mainly focus on assisting charities based in Malawi that deal with HIV/AIDS orphans and women headed households that have been affected by breast cancer based on their Pageant Platform. \nMalawian Queen UK was formed with the sole purpose of empowering young women with Malawian heritage based in the UK with effective leadership skills to enable them to make positive changes in their lives and the communities they live in. \nThe Malawian Queen UK uses beauty to promote and retain Malawian Culture amongst the Malawian community in the diaspora and also to boost tourism in Malawi
URL:https://www.theoldsavoy.co.uk/event/miss-malawi-uk/
LOCATION:The Deco Main Auditorium\, Abington Square\, Northampton\, NN1 4AE\, United Kingdom
CATEGORIES:Competition,Music,Theatre
ATTACH;FMTTYPE=image/jpeg:https://www.theoldsavoy.co.uk/wp-content/uploads/2015/08/11831692_442112945990928_914405396303086065_n.jpg
END:VEVENT
BEGIN:VEVENT
DTSTART;TZID=Europe/London:20150627T134500
DTEND;TZID=Europe/London:20150627T160500
DTSTAMP:20260424T152134
CREATED:20150413T225142Z
LAST-MODIFIED:20150501T231050Z
UID:584-1435412700-1435421100@www.theoldsavoy.co.uk
SUMMARY:Gymnastricks
DESCRIPTION:A showcase by Northampton Gymnastricks
URL:https://www.theoldsavoy.co.uk/event/gymnastricks/
LOCATION:The Deco Main Auditorium\, Abington Square\, Northampton\, NN1 4AE\, United Kingdom
CATEGORIES:Competition,Dance,Family
END:VEVENT
BEGIN:VEVENT
DTSTART;TZID=Europe/London:20150613T190000
DTEND;TZID=Europe/London:20150613T220000
DTSTAMP:20260424T152134
CREATED:20150225T155205Z
LAST-MODIFIED:20150524T135906Z
UID:150-1434222000-1434232800@www.theoldsavoy.co.uk
SUMMARY:Strictly NGH
DESCRIPTION:Eighteen contestants. \nSix week’s training. \nFour judges. \nOne night. \n\nSupported by instructors and dance professionals from the Step By Step Dance School in Northampton eighteen members of staff from Northampton General Hospital\, including staff from nursing\, anaesthetics\, security\, payroll\, research & development and the chief executive\, will be taking part in Strictly NGH on Saturday 13th June at The Deco Theatre in Northampton.
URL:https://www.theoldsavoy.co.uk/event/strictly-ngh/
LOCATION:The Deco Main Auditorium\, Abington Square\, Northampton\, NN1 4AE\, United Kingdom
CATEGORIES:Competition,Dance
ATTACH;FMTTYPE=image/jpeg:https://www.theoldsavoy.co.uk/wp-content/uploads/2015/02/ngh.jpg
END:VEVENT
BEGIN:VEVENT
DTSTART;TZID=Europe/London:20150606T180000
DTEND;TZID=Europe/London:20150606T230000
DTSTAMP:20260424T152134
CREATED:20150413T223947Z
LAST-MODIFIED:20150501T230938Z
UID:578-1433613600-1433631600@www.theoldsavoy.co.uk
SUMMARY:White Collar Boxing
DESCRIPTION:On Saturday 6th June NS-UK are holding a amateur White Collar Boxing show. \nTickets are £20 per person and available from The Deco Box Office. We are making a donation to NC TLC a local charity. Doors open one hour before the show. \nAnybody interesting in taking part and fighting can ring 07508 697771. 8 weeks training will be provided
URL:https://www.theoldsavoy.co.uk/event/white-collar-boxing/
LOCATION:The Deco Main Auditorium\, Abington Square\, Northampton\, NN1 4AE\, United Kingdom
CATEGORIES:Competition
ATTACH;FMTTYPE=image/jpeg:https://www.theoldsavoy.co.uk/wp-content/uploads/2015/04/1503937_1430644210561918_6994992088817409237_n.jpg
END:VEVENT
END:VCALENDAR