BEGIN:VCALENDAR
VERSION:2.0
PRODID:-//The Old Savoy - Home of The Deco Theatre, Northampton - ECPv6.15.17//NONSGML v1.0//EN
CALSCALE:GREGORIAN
METHOD:PUBLISH
X-WR-CALNAME:The Old Savoy - Home of The Deco Theatre, Northampton
X-ORIGINAL-URL:https://www.theoldsavoy.co.uk
X-WR-CALDESC:Events for The Old Savoy - Home of The Deco Theatre, Northampton
REFRESH-INTERVAL;VALUE=DURATION:PT1H
X-Robots-Tag:noindex
X-PUBLISHED-TTL:PT1H
BEGIN:VTIMEZONE
TZID:Europe/London
BEGIN:DAYLIGHT
TZOFFSETFROM:+0000
TZOFFSETTO:+0100
TZNAME:BST
DTSTART:20250330T010000
END:DAYLIGHT
BEGIN:STANDARD
TZOFFSETFROM:+0100
TZOFFSETTO:+0000
TZNAME:GMT
DTSTART:20251026T010000
END:STANDARD
BEGIN:DAYLIGHT
TZOFFSETFROM:+0000
TZOFFSETTO:+0100
TZNAME:BST
DTSTART:20260329T010000
END:DAYLIGHT
BEGIN:STANDARD
TZOFFSETFROM:+0100
TZOFFSETTO:+0000
TZNAME:GMT
DTSTART:20261025T010000
END:STANDARD
BEGIN:DAYLIGHT
TZOFFSETFROM:+0000
TZOFFSETTO:+0100
TZNAME:BST
DTSTART:20270328T010000
END:DAYLIGHT
BEGIN:STANDARD
TZOFFSETFROM:+0100
TZOFFSETTO:+0000
TZNAME:GMT
DTSTART:20271031T010000
END:STANDARD
END:VTIMEZONE
BEGIN:VEVENT
DTSTART;TZID=Europe/London:20260425T193000
DTEND;TZID=Europe/London:20260425T215500
DTSTAMP:20260424T105019
CREATED:20250423T142259Z
LAST-MODIFIED:20250513T113459Z
UID:38629-1777145400-1777154100@www.theoldsavoy.co.uk
SUMMARY:'The Hypnotist & Mind Reader Live'
DESCRIPTION:Featuring one of the UK’s top hypnotists and renowned mind readers… \nPrepare for an evening of amazement and laughter as one of the UK’s top hypnotists and renowned mind-readers brings you two unmissable shows in one incredible night. \nWith multiple five star reviews\, Daniel Sinclair has been described as “The next Derren Brown” (Phoenix Arts) and “Blew me away!” (Jimmy Carr). \nA master of combining suspense with comedy\, music and truly jaw-dropping moments\, Daniel’s shows will take you on a rollercoaster ride of your minds\, leaving you laughing out loud while questioning your own realities. \n\nPart One: The Mind Reader (approx 45mins)\nA mind reading and mentalism show that will leave you on the edge of your seats. Expect West End quality entertainment\, Derren Brown-style mind games and all-round psychological wonder as Daniel reads volunteers’ minds and makes astonishing predictions live on stage. \nPart Two: Comedy Hypnosis (approx 75mins)\nA mesmerisingly hilarious hypnosis show where volunteers from the audience have their imaginations unlocked and realities altered\, all through the power of hypnosis. Buckle up tight. Prepare to be spellbound and in fits of laughter. Choose to SEE the show or BE the show! \n  \nAbout Daniel\nDaniel Sinclair is one of the UK’s leading comedy stage hypnotists\, a renowned mind-reader and mentalist. He has been described as ‘the most impressive’ in his industry with performances spanning the globe from the West End to large theatres\, festivals\, TV and viral podcasts. Daniel has a knack for leaving crowds gobsmacked wherever he goes and has in recent years read the minds and hypnotised thousands of people. \nAge guidance: 13+ (at parent’s/guardian’s discretion – the majority of the show is family friendly).
URL:https://www.theoldsavoy.co.uk/event/daniel-sinclair-comedy-hypnotist/
LOCATION:The  Old Savoy\, Abington Square\, Northampton\, NN1 4AE
CATEGORIES:Comedy,Live on Stage
ATTACH;FMTTYPE=image/jpeg:https://www.theoldsavoy.co.uk/wp-content/uploads/2025/04/2025-New-Show-Poster-1-scaled.jpg
END:VEVENT
END:VCALENDAR